BEGIN:VCALENDAR
VERSION:2.0
CALSCALE:GREGORIAN
PRODID:adamgibbons/ics
METHOD:PUBLISH
X-PUBLISHED-TTL:PT1H
BEGIN:VEVENT
UID:133@enredad.es
SUMMARY:IV Jornades per la Visibilitat Lèsbica
DTSTAMP:20260424T182810Z
DTSTART:20260424T163000Z
DTEND:20260426T180000Z
URL:https://enredad.es/event/iv-jornades-per-la-visibilitat-lesbica
GEO:41.4051974;2.1881584
LOCATION:La Farinera (Barcelona) - Gran Via de les Corts Catalanes\, 837\, 
	08018 Barcelona
STATUS:CONFIRMED
CATEGORIES:Cineforum,LBT,barcelona,casallambda,feminismo,festival,fiesta,me
	sa redonda,noemilopeztrujillo
END:VEVENT
END:VCALENDAR
